BEGIN:VCALENDAR
VERSION:2.0
PRODID:-//SOGIA - ECPv6.15.0//NONSGML v1.0//EN
CALSCALE:GREGORIAN
METHOD:PUBLISH
X-ORIGINAL-URL:https://sogia.cl/web
X-WR-CALDESC:Eventos para SOGIA
REFRESH-INTERVAL;VALUE=DURATION:PT1H
X-Robots-Tag:noindex
X-PUBLISHED-TTL:PT1H
BEGIN:VTIMEZONE
TZID:America/Santiago
BEGIN:STANDARD
TZOFFSETFROM:-0300
TZOFFSETTO:-0400
TZNAME:-04
DTSTART:20240407T030000
END:STANDARD
BEGIN:DAYLIGHT
TZOFFSETFROM:-0400
TZOFFSETTO:-0300
TZNAME:-03
DTSTART:20240908T040000
END:DAYLIGHT
END:VTIMEZONE
BEGIN:VEVENT
DTSTART;VALUE=DATE:20240419
DTEND;VALUE=DATE:20240421
DTSTAMP:20260421T061636
CREATED:20240328T191047Z
LAST-MODIFIED:20240328T191047Z
UID:1982-1713484800-1713657599@sogia.cl
SUMMARY:XVI Jornadas Anuales de Endocrinología Ginecológica SOCHEG 2024
DESCRIPTION:Para más información entra aquí https://socheg.org \n 
URL:https://sogia.cl/web/evento/xvi-jornadas-anuales-de-endocrinologia-ginecologica-socheg-2024-2/
END:VEVENT
BEGIN:VEVENT
DTSTART;VALUE=DATE:20240419
DTEND;VALUE=DATE:20240421
DTSTAMP:20260421T061636
CREATED:20240328T171135Z
LAST-MODIFIED:20240328T171452Z
UID:1973-1713484800-1713657599@sogia.cl
SUMMARY:XVI Jornadas Anuales de Endocrinología Ginecológica SOCHEG 2024
DESCRIPTION:Para más información entra aquí https://socheg.org
URL:https://sogia.cl/web/evento/xvi-jornadas-anuales-de-endocrinologia-ginecologica-socheg-2024/
END:VEVENT
END:VCALENDAR