BEGIN:VCALENDAR
VERSION:2.0
PRODID:-//SOGIA - ECPv6.15.0//NONSGML v1.0//EN
CALSCALE:GREGORIAN
METHOD:PUBLISH
X-WR-CALNAME:SOGIA
X-ORIGINAL-URL:https://sogia.cl/web
X-WR-CALDESC:Eventos para SOGIA
REFRESH-INTERVAL;VALUE=DURATION:PT1H
X-Robots-Tag:noindex
X-PUBLISHED-TTL:PT1H
BEGIN:VTIMEZONE
TZID:America/Santiago
BEGIN:STANDARD
TZOFFSETFROM:-0300
TZOFFSETTO:-0400
TZNAME:-04
DTSTART:20210404T030000
END:STANDARD
BEGIN:DAYLIGHT
TZOFFSETFROM:-0400
TZOFFSETTO:-0300
TZNAME:-03
DTSTART:20210905T040000
END:DAYLIGHT
END:VTIMEZONE
BEGIN:VEVENT
DTSTART;TZID=America/Santiago:20211108T193000
DTEND;TZID=America/Santiago:20211108T210000
DTSTAMP:20260420T035628
CREATED:20211115T173831Z
LAST-MODIFIED:20211115T182259Z
UID:1535-1636399800-1636405200@sogia.cl
SUMMARY:Avances en Anticoncepción Masculina
DESCRIPTION:
URL:https://sogia.cl/web/evento/avances-en-anticoncepcion-masculina/
CATEGORIES:Reuniones Clínicas
END:VEVENT
END:VCALENDAR